BEGIN:VCALENDAR
VERSION:2.0
PRODID:-//Orgel rockt - ECPv6.15.20//NONSGML v1.0//EN
CALSCALE:GREGORIAN
METHOD:PUBLISH
X-ORIGINAL-URL:https://orgel-rockt.de
X-WR-CALDESC:Veranstaltungen für Orgel rockt
REFRESH-INTERVAL;VALUE=DURATION:PT1H
X-Robots-Tag:noindex
X-PUBLISHED-TTL:PT1H
BEGIN:VTIMEZONE
TZID:Europe/Berlin
BEGIN:DAYLIGHT
TZOFFSETFROM:+0100
TZOFFSETTO:+0200
TZNAME:CEST
DTSTART:20250330T010000
END:DAYLIGHT
BEGIN:STANDARD
TZOFFSETFROM:+0200
TZOFFSETTO:+0100
TZNAME:CET
DTSTART:20251026T010000
END:STANDARD
BEGIN:DAYLIGHT
TZOFFSETFROM:+0100
TZOFFSETTO:+0200
TZNAME:CEST
DTSTART:20260329T010000
END:DAYLIGHT
BEGIN:STANDARD
TZOFFSETFROM:+0200
TZOFFSETTO:+0100
TZNAME:CET
DTSTART:20261025T010000
END:STANDARD
BEGIN:DAYLIGHT
TZOFFSETFROM:+0100
TZOFFSETTO:+0200
TZNAME:CEST
DTSTART:20270328T010000
END:DAYLIGHT
BEGIN:STANDARD
TZOFFSETFROM:+0200
TZOFFSETTO:+0100
TZNAME:CET
DTSTART:20271031T010000
END:STANDARD
END:VTIMEZONE
BEGIN:VEVENT
DTSTART;TZID=Europe/Berlin:20260430T190000
DTEND;TZID=Europe/Berlin:20260430T200000
DTSTAMP:20260425T180722
CREATED:20251013T100414Z
LAST-MODIFIED:20260408T180139Z
UID:10000214-1777575600-1777579200@orgel-rockt.de
SUMMARY:Special zur Night of Music in Öhringen
DESCRIPTION:Orgel rockt meets elementrix \nOrgelklang trifft Choreografie: Patrick Gläser überrascht dieses Jahr wieder mit einem besonderen Special. Gemeinsam mit der Showtanzgruppe „elementrix“ der Broadway Dance School Öhringen werden zwei Titel auch tänzerisch interpretiert: „Never Enough“ aus The Greatest Showman und „Time“ aus dem Film Inception. Die Choreografien setzen dabei visuelle Akzente im Kirchenraum. Das übrige Konzert gestaltet Patrick Gläser mit Titeln aus seinen Orgel-rockt-Formaten. \nFür diese Veranstaltung ist kein Eintrittsbändchen erforderlich.\nDer Eintritt ist auf Spendenbasis\, mit dem Erlös werden Öhringer Jugendinitiativen unterstützt. \nVeranstaltet von Musikbegegnungen event
URL:https://orgel-rockt.de/termin/special-night-of-music-oehringen/
LOCATION:Kath. Kirche St. Joseph Öhringen\, Am Cappelrain 2\, Öhringen\, 74613
GEO:49.197390563963;9.5067195632776
X-APPLE-STRUCTURED-LOCATION;VALUE=URI;X-ADDRESS=Kath. Kirche St. Joseph Öhringen Am Cappelrain 2 Öhringen 74613;X-APPLE-RADIUS=500;X-TITLE=Am Cappelrain 2:geo:9.5067195632776,49.197390563963
END:VEVENT
END:VCALENDAR