BEGIN:VCALENDAR
VERSION:2.0
PRODID:-//Orgel rockt - ECPv6.15.20//NONSGML v1.0//EN
CALSCALE:GREGORIAN
METHOD:PUBLISH
X-WR-CALNAME:Orgel rockt
X-ORIGINAL-URL:https://orgel-rockt.de
X-WR-CALDESC:Veranstaltungen für Orgel rockt
REFRESH-INTERVAL;VALUE=DURATION:PT1H
X-Robots-Tag:noindex
X-PUBLISHED-TTL:PT1H
BEGIN:VTIMEZONE
TZID:Europe/Berlin
BEGIN:DAYLIGHT
TZOFFSETFROM:+0100
TZOFFSETTO:+0200
TZNAME:CEST
DTSTART:20250330T010000
END:DAYLIGHT
BEGIN:STANDARD
TZOFFSETFROM:+0200
TZOFFSETTO:+0100
TZNAME:CET
DTSTART:20251026T010000
END:STANDARD
BEGIN:DAYLIGHT
TZOFFSETFROM:+0100
TZOFFSETTO:+0200
TZNAME:CEST
DTSTART:20260329T010000
END:DAYLIGHT
BEGIN:STANDARD
TZOFFSETFROM:+0200
TZOFFSETTO:+0100
TZNAME:CET
DTSTART:20261025T010000
END:STANDARD
BEGIN:DAYLIGHT
TZOFFSETFROM:+0100
TZOFFSETTO:+0200
TZNAME:CEST
DTSTART:20270328T010000
END:DAYLIGHT
BEGIN:STANDARD
TZOFFSETFROM:+0200
TZOFFSETTO:+0100
TZNAME:CET
DTSTART:20271031T010000
END:STANDARD
END:VTIMEZONE
BEGIN:VEVENT
DTSTART;TZID=Europe/Berlin:20260424T193000
DTEND;TZID=Europe/Berlin:20260424T193000
DTSTAMP:20260424T121543
CREATED:20251103T154159Z
LAST-MODIFIED:20260304T190158Z
UID:10000220-1777059000-1777059000@orgel-rockt.de
SUMMARY:Best of in Wolfenbüttel
DESCRIPTION:Highlights aus 16 Jahren Orgel rockt \nMit dem „Best of“ kommen die beliebtesten Titel aus sieben Tour-Programmen mit Rock\, Pop und Filmmusik zurück auf die Orgel. Freut euch auf Klassiker wie Bohemian Rhapsody\, Nothing Else Matters oder Music und natürlich auf Publikumslieblinge wie Fluch der Karibik — wie immer mit Leidenschaft und unverwechselbarer Handschrift auf der Kirchenorgel interpretiert. \nEintritt frei wählbar\nRichtwert: Erw. 20 €\, erm. 10 €\, Kinder/Jugendliche frei \nEine Veranstaltung der Pfarrei St. Petrus Wolfenbüttel
URL:https://orgel-rockt.de/termin/orgel-rockt-in-wolfenbuettel/
LOCATION:Kath. Kirche St. Ansgar Wolfenbüttel\, Waldenburger Str. 1a\, Wolfenbüttel\, 38302\, Deutschland
GEO:52.173017313076;10.559229038856
X-APPLE-STRUCTURED-LOCATION;VALUE=URI;X-ADDRESS=Kath. Kirche St. Ansgar Wolfenbüttel Waldenburger Str. 1a Wolfenbüttel 38302 Deutschland;X-APPLE-RADIUS=500;X-TITLE=Waldenburger Str. 1a:geo:10.559229038856,52.173017313076
END:VEVENT
END:VCALENDAR